BEGIN:VCALENDAR
VERSION:2.0
PRODID:-//Texas Keeper Cider | Austin - ECPv6.15.20//NONSGML v1.0//EN
CALSCALE:GREGORIAN
METHOD:PUBLISH
X-WR-CALNAME:Texas Keeper Cider | Austin
X-ORIGINAL-URL:https://texaskeeper.com
X-WR-CALDESC:Events for Texas Keeper Cider | Austin
REFRESH-INTERVAL;VALUE=DURATION:PT1H
X-Robots-Tag:noindex
X-PUBLISHED-TTL:PT1H
BEGIN:VTIMEZONE
TZID:UTC
BEGIN:STANDARD
TZOFFSETFROM:+0000
TZOFFSETTO:+0000
TZNAME:UTC
DTSTART:20240101T000000
END:STANDARD
END:VTIMEZONE
BEGIN:VEVENT
DTSTART;TZID=UTC:20251205T183000
DTEND;TZID=UTC:20251205T210000
DTSTAMP:20260421T151604
CREATED:20251203T084512Z
LAST-MODIFIED:20251203T084512Z
UID:2436-1764959400-1764968400@texaskeeper.com
SUMMARY:Movie Night!
DESCRIPTION:
URL:https://texaskeeper.com/event/movie-night/
LOCATION:TX
CATEGORIES:Movies
ATTACH;FMTTYPE=image/webp:https://texaskeeper.com/wp-content/uploads/merlin_147856326_8d0e7f04-bc44-4024-8dd5-d125fddd359e-articleLarge.webp
END:VEVENT
END:VCALENDAR