BEGIN:VCALENDAR
VERSION:2.0
PRODID:-//Texas Keeper Cider | Austin - ECPv6.15.20//NONSGML v1.0//EN
CALSCALE:GREGORIAN
METHOD:PUBLISH
X-ORIGINAL-URL:https://texaskeeper.com
X-WR-CALDESC:Events for Texas Keeper Cider | Austin
REFRESH-INTERVAL;VALUE=DURATION:PT1H
X-Robots-Tag:noindex
X-PUBLISHED-TTL:PT1H
BEGIN:VTIMEZONE
TZID:UTC
BEGIN:STANDARD
TZOFFSETFROM:+0000
TZOFFSETTO:+0000
TZNAME:UTC
DTSTART:20250101T000000
END:STANDARD
END:VTIMEZONE
BEGIN:VEVENT
DTSTART;VALUE=DATE:20260307
DTEND;VALUE=DATE:20260308
DTSTAMP:20260422T152015
CREATED:20260302T162958Z
LAST-MODIFIED:20260302T162958Z
UID:2480-1772841600-1772927999@texaskeeper.com
SUMMARY:Closed Saturday 3/7 for Private Event!
DESCRIPTION:
URL:https://texaskeeper.com/event/closed-saturday-3-7-for-private-event/
LOCATION:Texas Keeper Cider\, 12521 Twin Creeks Rd\, Manchaca\, TX\, 78652\, United States
CATEGORIES:Special Hours
ATTACH;FMTTYPE=image/jpeg:https://texaskeeper.com/wp-content/uploads/wedding-pic-11.jpg
END:VEVENT
END:VCALENDAR